BEGIN:VCALENDAR
VERSION:2.0
PRODID:-//ESN Rotterdam - ECPv6.6.0//NONSGML v1.0//EN
CALSCALE:GREGORIAN
METHOD:PUBLISH
X-ORIGINAL-URL:https://esn-rotterdam.nl
X-WR-CALDESC:Events for ESN Rotterdam
REFRESH-INTERVAL;VALUE=DURATION:PT1H
X-Robots-Tag:noindex
X-PUBLISHED-TTL:PT1H
BEGIN:VTIMEZONE
TZID:Europe/Amsterdam
BEGIN:DAYLIGHT
TZOFFSETFROM:+0100
TZOFFSETTO:+0200
TZNAME:CEST
DTSTART:20230326T010000
END:DAYLIGHT
BEGIN:STANDARD
TZOFFSETFROM:+0200
TZOFFSETTO:+0100
TZNAME:CET
DTSTART:20231029T010000
END:STANDARD
END:VTIMEZONE
BEGIN:VEVENT
DTSTART;TZID=Europe/Amsterdam:20230207T220000
DTEND;TZID=Europe/Amsterdam:20230208T040000
DTSTAMP:20260423T155116
CREATED:20230201T194946Z
LAST-MODIFIED:20240705T101252Z
UID:8424-1675807200-1675828800@esn-rotterdam.nl
SUMMARY:Traffic Light Party: ESN Tuesday
DESCRIPTION:⚜️ESN Announcement ⚜️ \n\n\n\n \n\n\n\n🚦Traffic light party 🚦🚥Show us your colours.  \n\n\n\n🚥In preparation for Valentine’s Day we want you to show us your colours\, 🟩 =ready to mingle 🟠= its complicated but try if you want and ♦️= im in a happy relationship and not willing to have more than a nice chat and a dance 🕺 \n\n\n\nWe are excited to see you all and know we will have a great party together 🎉Of course there will be the option to play beer pong and meet a lot of great people 🎉🚥See you there📍at Beurs💰free
URL:https://esn-rotterdam.nl/event/traffic-light-party-esn-tuesday/
CATEGORIES:Social Events
END:VEVENT
END:VCALENDAR