BEGIN:VCALENDAR
VERSION:2.0
PRODID:-//ESN Rotterdam - ECPv6.6.0//NONSGML v1.0//EN
CALSCALE:GREGORIAN
METHOD:PUBLISH
X-WR-CALNAME:ESN Rotterdam
X-ORIGINAL-URL:https://esn-rotterdam.nl
X-WR-CALDESC:Events for ESN Rotterdam
REFRESH-INTERVAL;VALUE=DURATION:PT1H
X-Robots-Tag:noindex
X-PUBLISHED-TTL:PT1H
BEGIN:VTIMEZONE
TZID:Europe/Amsterdam
BEGIN:DAYLIGHT
TZOFFSETFROM:+0100
TZOFFSETTO:+0200
TZNAME:CEST
DTSTART:20230326T010000
END:DAYLIGHT
BEGIN:STANDARD
TZOFFSETFROM:+0200
TZOFFSETTO:+0100
TZNAME:CET
DTSTART:20231029T010000
END:STANDARD
END:VTIMEZONE
BEGIN:VEVENT
DTSTART;TZID=Europe/Amsterdam:20230227T080000
DTEND;TZID=Europe/Amsterdam:20230227T170000
DTSTAMP:20260423T142847
CREATED:20230227T191927Z
LAST-MODIFIED:20240705T101251Z
UID:8557-1677484800-1677517200@esn-rotterdam.nl
SUMMARY:Black and White Themed: ESN Tuesday
DESCRIPTION:Join our ESN Tuesdays this week again at Cafe de Beurs! Every Tuesday\, we have a party for all students in Rotterdam! We hope you bring positive energy with you and that you are ready to party through the night! \n\n\n\n \n\n\n\nSpecial Music: Arabic Music from 10 to 12 and a special Reggaeton Basement. \n\n\n\n \n\n\n\nFree entry\, washroom\, wardrobe\, and water!!
URL:https://esn-rotterdam.nl/event/black-and-white-themed-esn-tuesday/
CATEGORIES:Social Events
ATTACH;FMTTYPE=image/jpeg:https://esn-rotterdam.nl/wp-content/uploads/2021/10/ESN-Tuesday-4.jpg
END:VEVENT
END:VCALENDAR