BEGIN:VCALENDAR
VERSION:2.0
PRODID:-//ESN Rotterdam - ECPv6.6.0//NONSGML v1.0//EN
CALSCALE:GREGORIAN
METHOD:PUBLISH
X-ORIGINAL-URL:https://esn-rotterdam.nl
X-WR-CALDESC:Events for ESN Rotterdam
REFRESH-INTERVAL;VALUE=DURATION:PT1H
X-Robots-Tag:noindex
X-PUBLISHED-TTL:PT1H
BEGIN:VTIMEZONE
TZID:Europe/Amsterdam
BEGIN:DAYLIGHT
TZOFFSETFROM:+0100
TZOFFSETTO:+0200
TZNAME:CEST
DTSTART:20230326T010000
END:DAYLIGHT
BEGIN:STANDARD
TZOFFSETFROM:+0200
TZOFFSETTO:+0100
TZNAME:CET
DTSTART:20231029T010000
END:STANDARD
END:VTIMEZONE
BEGIN:VEVENT
DTSTART;TZID=Europe/Amsterdam:20230517T230000
DTEND;TZID=Europe/Amsterdam:20230518T030000
DTSTAMP:20260423T114449
CREATED:20230502T173611Z
LAST-MODIFIED:20240705T101246Z
UID:8801-1684364400-1684378800@esn-rotterdam.nl
SUMMARY:Lustrum Gala: After Party
DESCRIPTION:On behalf of the 15th ESN Rotterdam Board\, we are delighted to invite you to our Lustrum Gala: After Party to celebrate our 15th Birthday!This will be held on the 17th of May at Eau Lounge (there is a national holiday in the NL the next day so no worries about waking early)! It will start at 23:00 and will go on till 03:00. The theme of the after-party is Spring Fling so\, dress accordingly.  \n\n\n\n \n\n\n\nWant to party another night with ESN Rotterdam\, then get your ticket here! A FREE BEER is included in the ticket.
URL:https://esn-rotterdam.nl/event/lustrum-gala-after-party/
CATEGORIES:Social Events
ATTACH;FMTTYPE=image/jpeg:https://esn-rotterdam.nl/wp-content/uploads/2023/05/WhatsApp-Image-2023-05-01-at-15.42.48.jpeg
END:VEVENT
END:VCALENDAR