BEGIN:VCALENDAR
VERSION:2.0
PRODID:-//ESN Rotterdam - ECPv6.6.0//NONSGML v1.0//EN
CALSCALE:GREGORIAN
METHOD:PUBLISH
X-ORIGINAL-URL:https://esn-rotterdam.nl
X-WR-CALDESC:Events for ESN Rotterdam
REFRESH-INTERVAL;VALUE=DURATION:PT1H
X-Robots-Tag:noindex
X-PUBLISHED-TTL:PT1H
BEGIN:VTIMEZONE
TZID:Europe/Amsterdam
BEGIN:DAYLIGHT
TZOFFSETFROM:+0100
TZOFFSETTO:+0200
TZNAME:CEST
DTSTART:20230326T010000
END:DAYLIGHT
BEGIN:STANDARD
TZOFFSETFROM:+0200
TZOFFSETTO:+0100
TZNAME:CET
DTSTART:20231029T010000
END:STANDARD
BEGIN:DAYLIGHT
TZOFFSETFROM:+0100
TZOFFSETTO:+0200
TZNAME:CEST
DTSTART:20240331T010000
END:DAYLIGHT
BEGIN:STANDARD
TZOFFSETFROM:+0200
TZOFFSETTO:+0100
TZNAME:CET
DTSTART:20241027T010000
END:STANDARD
END:VTIMEZONE
BEGIN:VEVENT
DTSTART;TZID=Europe/Amsterdam:20231027T170000
DTEND;TZID=Europe/Amsterdam:20231027T183000
DTSTAMP:20260423T183947
CREATED:20231013T103938Z
LAST-MODIFIED:20240705T101242Z
UID:9285-1698426000-1698431400@esn-rotterdam.nl
SUMMARY:Laser Tag
DESCRIPTION:🎉 Get ready for an EPIC battle under the neon lights! 🌟 ESN Rotterdam presents LASERTAG at Lasergame Rotterdam\, Parkhaven 9! 🔫💥 \n\n\n\n📅 Date: October 12\, 2023🕔 Time: 17:00📍 Location: Lasergame Rotterdam\, Parkhaven 9 \n\n\n\n \n\n\n\nJoin us for an adrenaline-pumping evening of laser warfare as you team up\, strategize\, and outsmart your opponents in the heart of Rotterdam! 💥🤖 It’s the ultimate showdown to prove your laser tag supremacy. 🏆 \n\n\n\n🌟 Ticket Prices:🎟️ ESN Cardholders: €18🎟️ Regular Tickets: €20 \n\n\n\nGrab your friends\, unleash your inner warrior\, and let the lasers fly at the iconic Lasergame Rotterdam! 🚀 This is an experience you won’t want to miss\, so secure your spot now! 🎯 \n\n\n\nDon’t forget to bring your A-game and your ESN Card for that sweet discount. 😉 Get ready for an unforgettable evening of heart-pounding action\, camaraderie\, and unforgettable memories! 🙌#ESNRotterdam #LasertagMadness #GetYourGameOn #ESNCardDiscount #TeamUpOrShutUp 💪💫
URL:https://esn-rotterdam.nl/event/laser-tag-2/
CATEGORIES:Social Events
END:VEVENT
BEGIN:VEVENT
DTSTART;TZID=Europe/Amsterdam:20231205T160000
DTEND;TZID=Europe/Amsterdam:20231205T180000
DTSTAMP:20260423T183947
CREATED:20231003T094607Z
LAST-MODIFIED:20240705T101243Z
UID:9256-1701792000-1701799200@esn-rotterdam.nl
SUMMARY:Ice Skating
DESCRIPTION:⛸️❄️ Frosty Fun: Ice Skating at Schaatsbaan Rotterdam! ❄️⛸️ \n\n\n\n📍 Location: Schaatsbaan Rotterdam \n\n\n\nLet’s kick off the Christmas season with a frosty celebration! ⛄ \n\n\n\n🎟️ Ticket Prices:ESN Card Holders: €7.5Regular Guests: €9Join us for an enchanting evening of ice skating at Schaatsbaan Rotterdam! Glide through a winter wonderland\, make snowflake-like memories\, and feel the festive spirit in the air! 🎄✨ \n\n\n\nAfterward\, we can keep the holiday cheer going with some hot cocoa or a cozy dinner. ☕🍽️ \n\n\n\nDon’t miss out on this frosty fun! Grab your skates\, bundle up\, and let’s skate into the holiday season together! ⛸️❤️ \n\n\n\n#ESNIceSkatingChristmas #SchaatsbaanRotterdam #FestiveFun \n\n\n\nShare the excitement and invite your friends to join us for this magical Christmas kickoff! 📣🎁❄️ \n\n\n\nGet your Ticket HERE! (tickets will be available 1 month before the event)
URL:https://esn-rotterdam.nl/event/ice-skating-2/
CATEGORIES:Social Events,Sports Events
ATTACH;FMTTYPE=image/png:https://esn-rotterdam.nl/wp-content/uploads/2021/11/Ice-Skating.png
END:VEVENT
BEGIN:VEVENT
DTSTART;TZID=Europe/Amsterdam:20240110T140000
DTEND;TZID=Europe/Amsterdam:20240110T173000
DTSTAMP:20260423T183947
CREATED:20240108T171813Z
LAST-MODIFIED:20240705T101239Z
UID:9602-1704895200-1704907800@esn-rotterdam.nl
SUMMARY:Go like crazies in the water!
DESCRIPTION:Dive into 2024 with us! 🌊 Join the adventure: \n\n\n\n🕑 Meet at 14:00📍 Blaak\, Rotterdam💰 Only €3 for a ticketHop on the metro for a splash in Hoek van Holland! Your ticket includes a post-dip treat: choose between a cold brew or hot chocolate. Let’s kick off the New Year together with a splash of excitement! 💦🍺☕️ #NewYearSplash #ColdWaterThrills #2024Kickoff” \n\n\n\nGET YOUR TICKET HERE!
URL:https://esn-rotterdam.nl/event/go-like-crazies-in-the-water/
CATEGORIES:Social Events
ATTACH;FMTTYPE=image/jpeg:https://esn-rotterdam.nl/wp-content/uploads/2024/01/ocean.jpeg
END:VEVENT
BEGIN:VEVENT
DTSTART;TZID=Europe/Amsterdam:20240112T140000
DTEND;TZID=Europe/Amsterdam:20240112T160000
DTSTAMP:20260423T183947
CREATED:20240108T171435Z
LAST-MODIFIED:20240705T101239Z
UID:9599-1705068000-1705075200@esn-rotterdam.nl
SUMMARY:Padel event
DESCRIPTION:Game\, set\, match! 🎾 Join us for a thrilling Padel event on 12.1.2024: \n\n\n\n⏰ Start Time: 14:00🕓 End Time: 16:00💸 ESN Member Price: €5💵 Non-ESN Member Price: €6📍 Location: Rivium 3e Straat 7\, 2909 LH Capelle aan den IJssel\, Netherlands \n\n\n\nWhether you’re a Padel pro or a newbie\, this event is for everyone! Enjoy friendly competition\, make new connections\, and soak up the Padel excitement. Secure your spot and let the games begin! 🏆🎉 #PadelEvent #SportsFever #ESNCommunity \n\n\n\nGET YOUR TICKET HERE!
URL:https://esn-rotterdam.nl/event/padel-event/
CATEGORIES:Social Events
ATTACH;FMTTYPE=image/jpeg:https://esn-rotterdam.nl/wp-content/uploads/2024/01/padel-une-rencontre-entre-le-squash-et-le-tennis.jpg
END:VEVENT
BEGIN:VEVENT
DTSTART;TZID=Europe/Amsterdam:20240119T170000
DTEND;TZID=Europe/Amsterdam:20240119T190000
DTSTAMP:20260423T183947
CREATED:20240108T172324Z
LAST-MODIFIED:20240705T101239Z
UID:9605-1705683600-1705690800@esn-rotterdam.nl
SUMMARY:Debate night
DESCRIPTION:Join a debate night with ESN!!  \n\n\n\nPizza and Softdrinks included 🍕 \n\n\n\n💰 €5 for a ticket \n\n\n\nLocation: Polak 1-21 \n\n\n\nGET YOUR TICKET HERE!
URL:https://esn-rotterdam.nl/event/debate-night/
CATEGORIES:Social Events
ATTACH;FMTTYPE=image/jpeg:https://esn-rotterdam.nl/wp-content/uploads/2024/01/debate-night.jpeg
END:VEVENT
BEGIN:VEVENT
DTSTART;TZID=Europe/Amsterdam:20240310T130000
DTEND;TZID=Europe/Amsterdam:20240310T160000
DTSTAMP:20260423T183947
CREATED:20240212T161616Z
LAST-MODIFIED:20240705T101237Z
UID:9698-1710075600-1710086400@esn-rotterdam.nl
SUMMARY:Powerleague Tournament
DESCRIPTION:🌟 Join the excitement as Powerleague and ESN Rotterdam present the ultimate football clash on March 10th\, 2024! 🏆 \n\n\n\n✨ Event Details:📅 Date: 10th March 2024🕒 Time: 13:00 – 16:00📍 Location: Leningradplaats 12\, 3066 SG Rotterdam \n\n\n\n⚽ Team Essentials:👥 Team Size: 5 to 8 players🎟️ Ticket Info: Only the captain needs to snag tickets \n\n\n\n💸 Registration:Sign Up Fee: 25 euros per team🎉 Limited Availability: Only 25 tickets left! \n\n\n\n🔥 Don’t miss out on the thrill! Secure your spot and get ready to experience football fever like never before. #PowerleagueESNRotterdam #FootballFever #TeamUpForGlory 🎟️⚽🔥 \n\n\n\nGet your ticket HERE!
URL:https://esn-rotterdam.nl/event/powerleague-tournament/
CATEGORIES:Social Events
ATTACH;FMTTYPE=image/png:https://esn-rotterdam.nl/wp-content/uploads/2024/02/powerleague.png
END:VEVENT
BEGIN:VEVENT
DTSTART;TZID=Europe/Amsterdam:20240315T080000
DTEND;TZID=Europe/Amsterdam:20240315T170000
DTSTAMP:20260423T183947
CREATED:20240313T093013Z
LAST-MODIFIED:20240705T101236Z
UID:9751-1710489600-1710522000@esn-rotterdam.nl
SUMMARY:Board Game & pizza
DESCRIPTION:“🎲✨ Join us for a night of laughter\, strategy\, and fun at Langeveld 1.14! 🍕🥤 \n\n\n\n📅 Date: March 15\, 2024🕖 Time: 19:00 – 23:00📍 Location: Erasmsu University Rottedam\, Langeveld 1.14💰 Price: 3 eurosGet ready for an epic Boardgame Night featuring your favorite games\, mouthwatering pizza\, and refreshing soft drinks! 🍕🎉 Whether you’re a seasoned strategist or just love a good time\, this event is for you! \n\n\n\nTag your game night crew and mark your calendars! 🗓️ Let the games begin! 🎲🍕 #BoardgameNight #GameOn #PizzaAndGames #Langeveld114 #SaveTheDate” \n\n\n\nGET YOUR TICKET HERE!
URL:https://esn-rotterdam.nl/event/board-game-pizza/
CATEGORIES:Social Events
END:VEVENT
BEGIN:VEVENT
DTSTART;TZID=Europe/Amsterdam:20240430T200000
DTEND;TZID=Europe/Amsterdam:20240430T230000
DTSTAMP:20260423T183947
CREATED:20240422T084009Z
LAST-MODIFIED:20240705T101235Z
UID:9817-1714507200-1714518000@esn-rotterdam.nl
SUMMARY:Beer Pong Tournament with B&R Beurs!
DESCRIPTION:🍻 Get ready to test your aim and show off your skills at the ultimate Beer Pong showdown! 🏓 Join us for an epic tournament brought to you by ESN in collaboration with B&R Beurs. It’s time to bring your A-game and compete for glory on the table at Cafe de Beurs! \n\n\n\n📅 Date: March 30\, 2023🕗 Time: 20:00 – 23:00📍 Location: Cafe de Beurs💰 Price: €15 per ticket\, but here’s the deal – one ticket includes entry for a team of three players\, making it just €5 per person! \n\n\n\nLet the games begin! Who will emerge victorious and claim the title of Beer Pong champions? 🏆🍺 Don’t miss out on the fun – grab your tickets now and let’s make memories that’ll last a lifetime! \n\n\n\nBeerPongTournament #ESN #BnRBeurs #GameOn #DrinkResponsibly 🍻✨\n\n\n\nGET YOUR TICKET HERE!!
URL:https://esn-rotterdam.nl/event/beer-pong-tournament-with-br-beurs/
CATEGORIES:Social Events
ATTACH;FMTTYPE=image/jpeg:https://esn-rotterdam.nl/wp-content/uploads/2019/10/ball-beer-beer-pong-544988-e1575634892788.jpg
END:VEVENT
BEGIN:VEVENT
DTSTART;TZID=Europe/Amsterdam:20240503T190000
DTEND;TZID=Europe/Amsterdam:20240503T230000
DTSTAMP:20260423T183947
CREATED:20240429T180644Z
LAST-MODIFIED:20240705T101234Z
UID:9848-1714762800-1714777200@esn-rotterdam.nl
SUMMARY:Boardgame & pizza
DESCRIPTION:🎲 Get ready for a night of strategy\, fun\, and delicious pizza at our Boardgame Evening! 🍕 Hosted by ESN Rotterdam\, join us for an evening of tabletop excitement in Polak 1.20. \n\n\n\n📅 Date: Friday\, May 3\, 2024🕗 Time: 19:00 – 23:00📍 Location: Polak 1.20💰 Price: Just €5 per ticket \n\n\n\nBring your favorite board games or discover new ones from our collection. Whether you’re a seasoned player or new to the scene\, there’s something for everyone! Plus\, enjoy tasty pizza snacks to keep your energy up throughout the night. \n\n\n\nIt’s the perfect opportunity to unwind\, make new friends\, and indulge in some friendly competition. Don’t miss out on this chance to have a blast! \n\n\n\nBoardgameEvening #ESNRotterdam #PizzaAndPlay #GameNight 🎲🍕\n\n\n\nGet your ticket HERE!!
URL:https://esn-rotterdam.nl/event/boardgame-pizza/
CATEGORIES:Social Events
END:VEVENT
BEGIN:VEVENT
DTSTART;TZID=Europe/Amsterdam:20240514T183000
DTEND;TZID=Europe/Amsterdam:20240514T220000
DTSTAMP:20260423T183947
CREATED:20240429T152417Z
LAST-MODIFIED:20240705T101235Z
UID:9845-1715711400-1715724000@esn-rotterdam.nl
SUMMARY:Flunkyball
DESCRIPTION:🍻 Get ready to test your throwing accuracy and team coordination at the ultimate Flunkyball tournament! 🏓 Organized by ESN Rotterdam\, this event promises an evening of exhilarating competition amidst the scenic backdrop of Kralingse Bos\, serving as the perfect pregame for ESN Tuesday happening afterward at Cafe de Beurs. \n\n\n\n📅 Date: May 14\, 2024🕗 Time: 18:30 – 22:00📍 Location: Kralingse Bos💰 Price: €10 per ticket \n\n\n\nFlunkyball is a high-energy outdoor game where teams compete by trying to knock over bottles with a ball\, while also completing various challenges. Expect an evening filled with camaraderie\, fierce competition\, and lots of laughter! \n\n\n\nGet your tickets now and let’s see which team will emerge as the Flunkyball champions! 🏆🍺 Don’t miss out on the action – secure your spot today and get ready for an unforgettable evening! \n\n\n\nFlunkyballTournament #ESNRotterdam #GameOn #OutdoorFun #ESNTuesday 🍻✨\n\n\n\nGET YOUR TICKET HERE!!
URL:https://esn-rotterdam.nl/event/flunkyball-3/
CATEGORIES:Social Events
ATTACH;FMTTYPE=image/jpeg:https://esn-rotterdam.nl/wp-content/uploads/2024/04/flunkyball.jpg
END:VEVENT
END:VCALENDAR