BEGIN:VCALENDAR
VERSION:2.0
PRODID:-//ESN Rotterdam - ECPv6.6.0//NONSGML v1.0//EN
CALSCALE:GREGORIAN
METHOD:PUBLISH
X-WR-CALNAME:ESN Rotterdam
X-ORIGINAL-URL:https://esn-rotterdam.nl
X-WR-CALDESC:Events for ESN Rotterdam
REFRESH-INTERVAL;VALUE=DURATION:PT1H
X-Robots-Tag:noindex
X-PUBLISHED-TTL:PT1H
BEGIN:VTIMEZONE
TZID:Europe/Amsterdam
BEGIN:DAYLIGHT
TZOFFSETFROM:+0100
TZOFFSETTO:+0200
TZNAME:CEST
DTSTART:20220327T010000
END:DAYLIGHT
BEGIN:STANDARD
TZOFFSETFROM:+0200
TZOFFSETTO:+0100
TZNAME:CET
DTSTART:20221030T010000
END:STANDARD
END:VTIMEZONE
BEGIN:VEVENT
DTSTART;TZID=Europe/Amsterdam:20221101T180000
DTEND;TZID=Europe/Amsterdam:20221101T200000
DTSTAMP:20260426T063632
CREATED:20221024T143938Z
LAST-MODIFIED:20240705T101303Z
UID:8149-1667325600-1667332800@esn-rotterdam.nl
SUMMARY:ESN X Sustainability Hub Vegan Day Cooking Workshop
DESCRIPTION:On World Vegan Day\, join us with the Sustainability Hub association for a cooking session! 🍽👨‍🍳During a 2h workshop\, we will cook (and eat!😋) a Vegan menu (starter\, main course\, and dessert). You will see that it can be possible and easy for students to cook vegan meals. 👩‍🍳🥗So\, don’t hesitate and come on the 1st of November to campus at the Erasmus Sustainability Hub from 18:00 to 20:00! \n\n\n\nBuy your ticket here!
URL:https://esn-rotterdam.nl/event/esn-x-sustainability-hub-vegan-day-cooking-workshop/
CATEGORIES:Social Inclusion Events
END:VEVENT
BEGIN:VEVENT
DTSTART;TZID=Europe/Amsterdam:20221109T170000
DTEND;TZID=Europe/Amsterdam:20221109T183000
DTSTAMP:20260426T063632
CREATED:20221108T120727Z
LAST-MODIFIED:20240705T101259Z
UID:8223-1668013200-1668018600@esn-rotterdam.nl
SUMMARY:Meditation and Journaling
DESCRIPTION:It is time to relax! If you feel stressed or overwhelmed join our meditation & journaling session on Wednesday 9/11!  \n\n\n\n📖 After the meditation\, you will have time to chat with other students and relax with a nice cup of tea while journalling 🎨☕.Meeting point and time: Campus at 17:00
URL:https://esn-rotterdam.nl/event/meditation-and-journaling/
CATEGORIES:Social Inclusion Events
END:VEVENT
END:VCALENDAR